BEGIN:VCALENDAR
VERSION:2.0
PRODID:-//PYVOBJECT//NONSGML Version 0.9.9//EN
X-WR-TIMEZONE:Africa/Johannesburg
BEGIN:VTIMEZONE
TZID:Africa/Johannesburg
BEGIN:STANDARD
DTSTART:20000101T000000
RRULE:FREQ=YEARLY;BYMONTH=1
TZNAME:SAST
TZOFFSETFROM:+0200
TZOFFSETTO:+0200
END:STANDARD
END:VTIMEZONE
BEGIN:VEVENT
UID:20260422T171755Z - 6278@eos-content
DTSTART;TZID=Africa/Johannesburg:20260426T140000
DTEND;TZID=Africa/Johannesburg:20260426T150000
ATTENDEE:MAILTO:clement@vermaakproperties.co.za
DESCRIPTION:https://www.vermaakproperties.co.za/results/residential/for-sal
 e/cape-town/kenilworth/apartment/3148282/\n\nContact agent for more inform
 ation\n\nClement Matthews (0718522014)
DTSTAMP:20260422T171755Z
LOCATION:Kenilworth\, Cape Town
SUMMARY:Vermaak Properties Show Day - RL802
END:VEVENT
END:VCALENDAR
